BEGIN:VCALENDAR
VERSION:2.0
PRODID:-//Tukios.com/
BEGIN:VEVENT
UID:b74cdcf9-792c-4654-97e4-bb59e98696e4@www.faulknerfuneralhcs.com
DTSTAMP:20260422T035935Z
DTSTART:20260502T150000Z
DTEND:20260502T160000Z
SUMMARY:Memorial Service
DESCRIPTION:
URL:https://www.faulknerfuneralhcs.com/obituaries/robert-hudgins-iii
LOCATION: 206 Church Lane  Tappahannock VA 22560
GEO:37.9286953;-76.8610295
END:VEVENT
END:VCALENDAR