BEGIN:VCALENDAR
VERSION:2.0
PRODID:-//Tukios.com/
BEGIN:VEVENT
UID:9975e5a1-f32c-4d9f-b914-e30885656a1f@www.faulknerfuneralhcs.com
DTSTAMP:20260424T181852Z
DTSTART:20260429T220000Z
DTEND:20260430T000000Z
SUMMARY:Visitation
DESCRIPTION:
URL:https://www.faulknerfuneralhcs.com/obituaries/simon-hix
LOCATION: 206 Church Lane  Tappahannock VA 22560
GEO:37.9286953;-76.8610295
END:VEVENT
END:VCALENDAR