BEGIN:VCALENDAR
VERSION:2.0
PRODID:-//Tukios.com/
BEGIN:VEVENT
UID:1f7ee900-818f-4ee2-beff-ec8a8259aeae@www.faulknerfuneralhcs.com
DTSTAMP:20260424T182334Z
DTSTART:20260430T140000Z
DTEND:20260430T150000Z
SUMMARY:Funeral Service
DESCRIPTION:
URL:https://www.faulknerfuneralhcs.com/obituaries/simon-hix
LOCATION: 206 Church Lane  Tappahannock VA 22560
GEO:37.9286953;-76.8610295
END:VEVENT
END:VCALENDAR